BEGIN:VCALENDAR
VERSION:2.0
PRODID:-//LG Bernkastel-Wittlich - ECPv6.15.20//NONSGML v1.0//EN
CALSCALE:GREGORIAN
METHOD:PUBLISH
X-ORIGINAL-URL:https://lg-bernkastel-wittlich.de
X-WR-CALDESC:Veranstaltungen für LG Bernkastel-Wittlich
REFRESH-INTERVAL;VALUE=DURATION:PT1H
X-Robots-Tag:noindex
X-PUBLISHED-TTL:PT1H
BEGIN:VTIMEZONE
TZID:Europe/Berlin
BEGIN:DAYLIGHT
TZOFFSETFROM:+0100
TZOFFSETTO:+0200
TZNAME:CEST
DTSTART:20220327T010000
END:DAYLIGHT
BEGIN:STANDARD
TZOFFSETFROM:+0200
TZOFFSETTO:+0100
TZNAME:CET
DTSTART:20221030T010000
END:STANDARD
BEGIN:DAYLIGHT
TZOFFSETFROM:+0100
TZOFFSETTO:+0200
TZNAME:CEST
DTSTART:20230326T010000
END:DAYLIGHT
BEGIN:STANDARD
TZOFFSETFROM:+0200
TZOFFSETTO:+0100
TZNAME:CET
DTSTART:20231029T010000
END:STANDARD
BEGIN:DAYLIGHT
TZOFFSETFROM:+0100
TZOFFSETTO:+0200
TZNAME:CEST
DTSTART:20240331T010000
END:DAYLIGHT
BEGIN:STANDARD
TZOFFSETFROM:+0200
TZOFFSETTO:+0100
TZNAME:CET
DTSTART:20241027T010000
END:STANDARD
END:VTIMEZONE
BEGIN:VEVENT
DTSTART;VALUE=DATE:20231021
DTEND;VALUE=DATE:20231022
DTSTAMP:20260421T213915
CREATED:20231002T085655Z
LAST-MODIFIED:20231021T185850Z
UID:1292-1697846400-1697932799@lg-bernkastel-wittlich.de
SUMMARY:48. Crossserie 1. Lauf Breit
DESCRIPTION:Ergebnisse nach Gesamteinlauf\nErgebnisse nach Altersklassen\nUrkunden\nTeilnehmerliste\nStartliste\nInfos/Ausschreibung
URL:https://lg-bernkastel-wittlich.de/veranstaltung/48-crossserie-1-lauf-breit/
LOCATION:Sportplatz in Breit\, Büdlich-Breit\, 54426
CATEGORIES:Volks-/Crosslauf
END:VEVENT
END:VCALENDAR