BEGIN:VCALENDAR
VERSION:2.0
PRODID:-//LG Bernkastel-Wittlich - ECPv6.15.20//NONSGML v1.0//EN
CALSCALE:GREGORIAN
METHOD:PUBLISH
X-ORIGINAL-URL:https://lg-bernkastel-wittlich.de
X-WR-CALDESC:Veranstaltungen für LG Bernkastel-Wittlich
REFRESH-INTERVAL;VALUE=DURATION:PT1H
X-Robots-Tag:noindex
X-PUBLISHED-TTL:PT1H
BEGIN:VTIMEZONE
TZID:Europe/Berlin
BEGIN:DAYLIGHT
TZOFFSETFROM:+0100
TZOFFSETTO:+0200
TZNAME:CEST
DTSTART:20200329T010000
END:DAYLIGHT
BEGIN:STANDARD
TZOFFSETFROM:+0200
TZOFFSETTO:+0100
TZNAME:CET
DTSTART:20201025T010000
END:STANDARD
BEGIN:DAYLIGHT
TZOFFSETFROM:+0100
TZOFFSETTO:+0200
TZNAME:CEST
DTSTART:20210328T010000
END:DAYLIGHT
BEGIN:STANDARD
TZOFFSETFROM:+0200
TZOFFSETTO:+0100
TZNAME:CET
DTSTART:20211031T010000
END:STANDARD
BEGIN:DAYLIGHT
TZOFFSETFROM:+0100
TZOFFSETTO:+0200
TZNAME:CEST
DTSTART:20220327T010000
END:DAYLIGHT
BEGIN:STANDARD
TZOFFSETFROM:+0200
TZOFFSETTO:+0100
TZNAME:CET
DTSTART:20221030T010000
END:STANDARD
END:VTIMEZONE
BEGIN:VEVENT
DTSTART;VALUE=DATE:20211211
DTEND;VALUE=DATE:20211212
DTSTAMP:20260421T102847
CREATED:20221124T170448Z
LAST-MODIFIED:20221124T180825Z
UID:756-1639180800-1639267199@lg-bernkastel-wittlich.de
SUMMARY:46. Crossserie 3. Lauf Breit
DESCRIPTION:Veranstaltungsdaten (Ergebnislisten etc.) im Archiv.
URL:https://lg-bernkastel-wittlich.de/veranstaltung/46-crossserie-3-lauf-breit/
LOCATION:Sportplatz in Breit\, Büdlich-Breit\, 54426
CATEGORIES:Volks-/Crosslauf
END:VEVENT
END:VCALENDAR