BEGIN:VCALENDAR
VERSION:2.0
PRODID:-//LG Bernkastel-Wittlich - ECPv6.15.20//NONSGML v1.0//EN
CALSCALE:GREGORIAN
METHOD:PUBLISH
X-WR-CALNAME:LG Bernkastel-Wittlich
X-ORIGINAL-URL:https://lg-bernkastel-wittlich.de
X-WR-CALDESC:Veranstaltungen für LG Bernkastel-Wittlich
REFRESH-INTERVAL;VALUE=DURATION:PT1H
X-Robots-Tag:noindex
X-PUBLISHED-TTL:PT1H
BEGIN:VTIMEZONE
TZID:Europe/Berlin
BEGIN:DAYLIGHT
TZOFFSETFROM:+0100
TZOFFSETTO:+0200
TZNAME:CEST
DTSTART:20210328T010000
END:DAYLIGHT
BEGIN:STANDARD
TZOFFSETFROM:+0200
TZOFFSETTO:+0100
TZNAME:CET
DTSTART:20211031T010000
END:STANDARD
BEGIN:DAYLIGHT
TZOFFSETFROM:+0100
TZOFFSETTO:+0200
TZNAME:CEST
DTSTART:20220327T010000
END:DAYLIGHT
BEGIN:STANDARD
TZOFFSETFROM:+0200
TZOFFSETTO:+0100
TZNAME:CET
DTSTART:20221030T010000
END:STANDARD
BEGIN:DAYLIGHT
TZOFFSETFROM:+0100
TZOFFSETTO:+0200
TZNAME:CEST
DTSTART:20230326T010000
END:DAYLIGHT
BEGIN:STANDARD
TZOFFSETFROM:+0200
TZOFFSETTO:+0100
TZNAME:CET
DTSTART:20231029T010000
END:STANDARD
END:VTIMEZONE
BEGIN:VEVENT
DTSTART;VALUE=DATE:20221119
DTEND;VALUE=DATE:20221120
DTSTAMP:20260419T135910
CREATED:20221127T083453Z
LAST-MODIFIED:20221127T083453Z
UID:1151-1668816000-1668902399@lg-bernkastel-wittlich.de
SUMMARY:Schülerhallensportfest in BKS
DESCRIPTION:Ergebnisübersicht U8 \nErgebnisübersicht U10 \nErgebnisübersicht U12 \nErgebnisübersicht U14
URL:https://lg-bernkastel-wittlich.de/veranstaltung/schuelerhallensportfest-in-bks-22/
LOCATION:BKS: Sporthalle im Schulzentrum\, Peter-Kremer-Weg 9\, Bernkastel-Kues\, 54470
CATEGORIES:Hallensportfest
END:VEVENT
BEGIN:VEVENT
DTSTART;VALUE=DATE:20221126
DTEND;VALUE=DATE:20221127
DTSTAMP:20260419T135910
CREATED:20221124T120120Z
LAST-MODIFIED:20221126T201934Z
UID:649-1669420800-1669507199@lg-bernkastel-wittlich.de
SUMMARY:47. Crossserie 1. Lauf Breit
DESCRIPTION:Online-Urkunden \nErgebnisliste nach Gesamteinlauf \nErgebnisliste nach Altersklassen \nMeldeliste \nTeilnehmerliste \nAusschreibung
URL:https://lg-bernkastel-wittlich.de/veranstaltung/47-crossserie-1-lauf-breit/
LOCATION:Sportplatz in Breit\, Büdlich-Breit\, 54426
CATEGORIES:Volks-/Crosslauf
END:VEVENT
END:VCALENDAR