BEGIN:VCALENDAR
VERSION:2.0
PRODID:-//LG Bernkastel-Wittlich - ECPv6.15.20//NONSGML v1.0//EN
CALSCALE:GREGORIAN
METHOD:PUBLISH
X-ORIGINAL-URL:https://lg-bernkastel-wittlich.de
X-WR-CALDESC:Veranstaltungen für LG Bernkastel-Wittlich
REFRESH-INTERVAL;VALUE=DURATION:PT1H
X-Robots-Tag:noindex
X-PUBLISHED-TTL:PT1H
BEGIN:VTIMEZONE
TZID:Europe/Berlin
BEGIN:DAYLIGHT
TZOFFSETFROM:+0100
TZOFFSETTO:+0200
TZNAME:CEST
DTSTART:20220327T010000
END:DAYLIGHT
BEGIN:STANDARD
TZOFFSETFROM:+0200
TZOFFSETTO:+0100
TZNAME:CET
DTSTART:20221030T010000
END:STANDARD
BEGIN:DAYLIGHT
TZOFFSETFROM:+0100
TZOFFSETTO:+0200
TZNAME:CEST
DTSTART:20230326T010000
END:DAYLIGHT
BEGIN:STANDARD
TZOFFSETFROM:+0200
TZOFFSETTO:+0100
TZNAME:CET
DTSTART:20231029T010000
END:STANDARD
BEGIN:DAYLIGHT
TZOFFSETFROM:+0100
TZOFFSETTO:+0200
TZNAME:CEST
DTSTART:20240331T010000
END:DAYLIGHT
BEGIN:STANDARD
TZOFFSETFROM:+0200
TZOFFSETTO:+0100
TZNAME:CET
DTSTART:20241027T010000
END:STANDARD
END:VTIMEZONE
BEGIN:VEVENT
DTSTART;VALUE=DATE:20230304
DTEND;VALUE=DATE:20230305
DTSTAMP:20260421T155713
CREATED:20230131T162059Z
LAST-MODIFIED:20231002T085519Z
UID:1230-1677888000-1677974399@lg-bernkastel-wittlich.de
SUMMARY:Schülerhallensportfest BKS
DESCRIPTION:Ausschreibung \nMeldebogen (Excel)
URL:https://lg-bernkastel-wittlich.de/veranstaltung/schuelerhallensportfest-bks/
LOCATION:BKS: Sporthalle im Schulzentrum\, Peter-Kremer-Weg 9\, Bernkastel-Kues\, 54470
CATEGORIES:Hallensportfest
END:VEVENT
BEGIN:VEVENT
DTSTART;VALUE=DATE:20230325
DTEND;VALUE=DATE:20230326
DTSTAMP:20260421T155713
CREATED:20221124T174832Z
LAST-MODIFIED:20230326T002933Z
UID:940-1679702400-1679788799@lg-bernkastel-wittlich.de
SUMMARY:47. Crossserie 4. Lauf Veldenz
DESCRIPTION:Ergebnisse nach Gesamteinlauf (Tageswertung) \nErgebnisse nach Altersklassen (Tageswertung) \nSeriensieger und Seriensiegerinnen 47. Crossserie \nUrkunden (Tages- sowie Serienwertung) \nInfos/Ausschreibung
URL:https://lg-bernkastel-wittlich.de/veranstaltung/47-crossserie-4-lauf-veldenz/
LOCATION:Thalveldenz\, Schloßstraße 1\, Veldenz\, 54472
CATEGORIES:Volks-/Crosslauf
END:VEVENT
END:VCALENDAR